BEGIN:VCALENDAR
VERSION:2.0
PRODID:-//Humane Society &amp; SPCA of Hancock County - ECPv6.15.20//NONSGML v1.0//EN
CALSCALE:GREGORIAN
METHOD:PUBLISH
X-ORIGINAL-URL:https://hancockhumanesociety.com
X-WR-CALDESC:Events for Humane Society &amp; SPCA of Hancock County
REFRESH-INTERVAL;VALUE=DURATION:PT1H
X-Robots-Tag:noindex
X-PUBLISHED-TTL:PT1H
BEGIN:VTIMEZONE
TZID:America/Detroit
BEGIN:DAYLIGHT
TZOFFSETFROM:-0500
TZOFFSETTO:-0400
TZNAME:EDT
DTSTART:20230312T070000
END:DAYLIGHT
BEGIN:STANDARD
TZOFFSETFROM:-0400
TZOFFSETTO:-0500
TZNAME:EST
DTSTART:20231105T060000
END:STANDARD
BEGIN:DAYLIGHT
TZOFFSETFROM:-0500
TZOFFSETTO:-0400
TZNAME:EDT
DTSTART:20240310T070000
END:DAYLIGHT
BEGIN:STANDARD
TZOFFSETFROM:-0400
TZOFFSETTO:-0500
TZNAME:EST
DTSTART:20241103T060000
END:STANDARD
BEGIN:DAYLIGHT
TZOFFSETFROM:-0500
TZOFFSETTO:-0400
TZNAME:EDT
DTSTART:20250309T070000
END:DAYLIGHT
BEGIN:STANDARD
TZOFFSETFROM:-0400
TZOFFSETTO:-0500
TZNAME:EST
DTSTART:20251102T060000
END:STANDARD
END:VTIMEZONE
BEGIN:VEVENT
DTSTART;TZID=America/Detroit:20241012T120000
DTEND;TZID=America/Detroit:20241012T210000
DTSTAMP:20260423T124508
CREATED:20240731T193425Z
LAST-MODIFIED:20240731T193425Z
UID:953-1728734400-1728766800@hancockhumanesociety.com
SUMMARY:Tails & Tats
DESCRIPTION:Come out to Embassy Ink for the 5th annual Tails & Tats event. Pick from custom designed artwork. Each piece is $60. First come first served. Must be 18 or older. All proceeds go to the pets at the shelter!
URL:https://hancockhumanesociety.com/event/tails-tats/
LOCATION:Embassy Ink & Gallery\, 1016 Tiffin Ave\, Suite J\, FIndlay\, OH\, 45840\, United States
ATTACH;FMTTYPE=image/jpeg:https://hancockhumanesociety.com/wp-content/uploads/2024/07/facebook_1722443318653_7224450901199919560.jpg
END:VEVENT
BEGIN:VEVENT
DTSTART;TZID=America/Detroit:20241019T113000
DTEND;TZID=America/Detroit:20241019T143000
DTSTAMP:20260423T124508
CREATED:20240731T163301Z
LAST-MODIFIED:20241018T182333Z
UID:726-1729337400-1729348200@hancockhumanesociety.com
SUMMARY:Tricks\, Treats & Tails 2024
DESCRIPTION:A Dog Trick-or-Treat Fundraiser\nTickets are $30 per dog and can be purchased below. \nTickets can be purchased the day of the event for $35. \nBring your canine friend(s) in costume to downtown Findlay to trick-or-treat. Check in at Findlay Brewing Co @ 213 E Crawford Street then trick-or-treat at downtown Findlay businesses.  You’ll have a map that lets you know where to go. \nBring a wish list item to have your dog’s picture taken @ FBC for entry into the costume contest sponsored by Findlay Young Professionals. \nOrder a t-shirt featuring the ghost dogs here. Available in short and long sleeve. \n  \nTHANK YOU to our Sponsors: \n   
URL:https://hancockhumanesociety.com/event/tricks-treats-tails-2024/
LOCATION:Findlay Brewing Co\, 213 E Crawford St\, Findlay\, OH\, 45840\, United States
ATTACH;FMTTYPE=image/png:https://hancockhumanesociety.com/wp-content/uploads/2023/09/Ghost-Dogs-Group.png
END:VEVENT
END:VCALENDAR